BEGIN:VCALENDAR
VERSION:2.0
PRODID:-//Pope Memorial Humane Society-Cocheco Valley - ECPv6.15.20//NONSGML v1.0//EN
CALSCALE:GREGORIAN
METHOD:PUBLISH
X-ORIGINAL-URL:https://popememorialcvhs.org
X-WR-CALDESC:Events for Pope Memorial Humane Society-Cocheco Valley
REFRESH-INTERVAL;VALUE=DURATION:PT1H
X-Robots-Tag:noindex
X-PUBLISHED-TTL:PT1H
BEGIN:VTIMEZONE
TZID:America/Halifax
BEGIN:DAYLIGHT
TZOFFSETFROM:-0400
TZOFFSETTO:-0300
TZNAME:ADT
DTSTART:20170312T060000
END:DAYLIGHT
BEGIN:STANDARD
TZOFFSETFROM:-0300
TZOFFSETTO:-0400
TZNAME:AST
DTSTART:20171105T050000
END:STANDARD
BEGIN:DAYLIGHT
TZOFFSETFROM:-0400
TZOFFSETTO:-0300
TZNAME:ADT
DTSTART:20180311T060000
END:DAYLIGHT
BEGIN:STANDARD
TZOFFSETFROM:-0300
TZOFFSETTO:-0400
TZNAME:AST
DTSTART:20181104T050000
END:STANDARD
BEGIN:DAYLIGHT
TZOFFSETFROM:-0400
TZOFFSETTO:-0300
TZNAME:ADT
DTSTART:20190310T060000
END:DAYLIGHT
BEGIN:STANDARD
TZOFFSETFROM:-0300
TZOFFSETTO:-0400
TZNAME:AST
DTSTART:20191103T050000
END:STANDARD
END:VTIMEZONE
BEGIN:VEVENT
DTSTART;TZID=America/Halifax:20180621T090000
DTEND;TZID=America/Halifax:20180621T110000
DTSTAMP:20260425T121039
CREATED:20180613T205222Z
LAST-MODIFIED:20180613T205248Z
UID:9690-1529571600-1529578800@popememorialcvhs.org
SUMMARY:Groundbreaking Ceremony
DESCRIPTION:The day has finally come!!!! Please join us at the groundbreaking ceremony for the new Pope Memorial Cocheco Valley Humane Society on Thursday\, June 21st\, at 9am. Parking will be available in the lot for the adjacent football field. Light refreshments will follow the ceremony onsite. \nPlease RSVP to mburger@cvhsonline.org by June 19th so we can plan for refreshments.
URL:https://popememorialcvhs.org/event/groundbreaking-ceremony/
LOCATION:Pope Memorial Cocheco Valley Humane Society\, 221 County Farm Road\, Dover\, NH\, 03820\, United States
CATEGORIES:Events
ATTACH;FMTTYPE=image/jpeg:https://popememorialcvhs.org/wp-content/uploads/2018/06/WebEventImage.jpg
ORGANIZER;CN="Cocheco Valley Humane Society":MAILTO:mburger@cvhsonline.org
END:VEVENT
BEGIN:VEVENT
DTSTART;TZID=America/Halifax:20180616T080000
DTEND;TZID=America/Halifax:20180616T130000
DTSTAMP:20260425T121039
CREATED:20180515T193537Z
LAST-MODIFIED:20180515T193648Z
UID:9419-1529136000-1529154000@popememorialcvhs.org
SUMMARY:Hops & Hounds
DESCRIPTION:Hops & Hounds\, Presented by Tito’s Handmade Vodka is a family-friendly\, tail-waggin’ day of fun to not only celebrate the dogs we love\, but raise shelter and adoption awareness all while enjoying Live Music\, Food Trucks\, Dock Dogs Competition\, Tito’s Handmade Vodka Drinks\, Funky Bow Brewery Craft Beers\, contests\, prizes\, entertainment\, shopping and more! This event will benefit and feature many Rescue and No-Kill Shelters with on-site lovable\, adoptable dogs\, and tons of great education and takeaways.
URL:https://popememorialcvhs.org/event/hops-hounds/
LOCATION:Raitt Homestead Farm Museum\, 2077 State Road\, Eliot\, ME\, 03903\, United States
CATEGORIES:Community Sponsored Events,Events,Exhibition
ATTACH;FMTTYPE=image/jpeg:https://popememorialcvhs.org/wp-content/uploads/2018/05/hops-and-hounds-pool-dog.jpg
END:VEVENT
BEGIN:VEVENT
DTSTART;TZID=America/Halifax:20180522T120000
DTEND;TZID=America/Halifax:20180522T180000
DTSTAMP:20260425T121039
CREATED:20180502T005502Z
LAST-MODIFIED:20180502T010436Z
UID:9291-1526990400-1527012000@popememorialcvhs.org
SUMMARY:Chapel + Main: Golden Retriever Beer Release
DESCRIPTION:Our friends at Chapel + Main are brewing a beer just for us! Join us there on May 22nd all day long for the release of Golden Retriever\, a new golden ale that will benefit the animals here at Cocheco Valley Humane Society. On May 22nd\, Chapel + Main will donate 15% of their total profit for the day to the shelter\, and after that we’ll receive $0.50 for each pint of Golden Retriever sold until the beer runs out!
URL:https://popememorialcvhs.org/event/chapel-and-main-golden-retriever-beer-release/
LOCATION:Chapel + Main\, 83 Main Street\, Dover\, NH\, 03820\, United States
CATEGORIES:Dining,Fundraiser
ATTACH;FMTTYPE=image/jpeg:https://popememorialcvhs.org/wp-content/uploads/2018/05/golden-retriever-event-pic-1.jpg
ORGANIZER;CN="Cocheco Valley Humane Society":MAILTO:mburger@cvhsonline.org
END:VEVENT
BEGIN:VEVENT
DTSTART;TZID=America/Halifax:20180505T050000
DTEND;TZID=America/Halifax:20180505T120000
DTSTAMP:20260425T121039
CREATED:20180329T180818Z
LAST-MODIFIED:20180329T180836Z
UID:8863-1525496400-1525521600@popememorialcvhs.org
SUMMARY:Bikers for Barkers Motorcycle Dice Run
DESCRIPTION:Calling all you bighearted bikers! What’s better than spending a day in the saddle? Doing so while supporting a great cause! We are reaching out to riders from all over to join us\, and ride united\, for a motorcycle dice run to benefit the animals of Cocheco Valley Humane Society (CVHS) sponsored by American Legion Riders of Chapter 51\, Epping NH! \nMotorcyclists to gather at the American Legion Post 51 in Epping\, NH on Saturday\, May 5th: \nRegistration begins at 9am \nKickstands up – 10am \n$15 Rider/$10 Passenger (Grill fare included) \nFood\, raffles\, and festivities back at the Legion around 1pm\n\nDon’t have a bike? No problem! Join us at the Legion after the ride – $10/person. \nInterested in promoting your business and supporting the animals of CVHS? We are currently accepting donations for the raffles! Please contact mburger@cvhsonline.org.
URL:https://popememorialcvhs.org/event/bikers-for-barkers-motorcycle-dice-run/
LOCATION:American Legion R.A. Mitchell Post 51\, 232 Calef Highway\, Epping\, NH\, 03042\, United States
CATEGORIES:Community Sponsored Events,Fundraiser
ATTACH;FMTTYPE=image/jpeg:https://popememorialcvhs.org/wp-content/uploads/2018/03/bikers-for-barkers-event-image.jpg
ORGANIZER;CN="Cocheco Valley Humane Society":MAILTO:mburger@cvhsonline.org
END:VEVENT
BEGIN:VEVENT
DTSTART;TZID=America/Halifax:20180429T110000
DTEND;TZID=America/Halifax:20180429T140000
DTSTAMP:20260425T121039
CREATED:20180315T205612Z
LAST-MODIFIED:20180427T235459Z
UID:8668-1524999600-1525010400@popememorialcvhs.org
SUMMARY:Tails to Trails Dog Walk and 5K
DESCRIPTION:Join us on Sunday\, April 29th\, 2018 for the annual Tails to Trails Dog Walk & 5K Run in downtown Dover. This year we are featuring a 5K road race at 11am open to runners and walkers (no dogs allowed on the 5K route)\, as well as a Dog Walk at 12:00pm. The Dog Walk will be a much shorter loop through Henry Law Park for the dogs and the walkers who do not wish to walk the 5K. Come out and support the animals\, visit with our vendors\, and enjoy an afternoon in beautiful downtown Dover.  It will be a fun time for the whole family\, Fido included! Pre-registration for this event is now closed\, but you can register on the day of the event between 9am-10:45am. \nTo raise funds online as a team or individually please create a Firstgiving page. \nPLEASE NOTE: All participants for both the Dog Walk and the 5K must register through Granite State Racing\, NOT through Firstgiving. Registration on Firstgiving will only be applied to your fundraising total\, it will NOT register you for either the race or the Dog Walk. If you have any questions please email mburger@cvhsonline.org \nIf you register by April 15th\, 2018 you will receive a free t-shirt at the event! There will be no t-shirts available after April 15th. \n\n\n\n5K Runners: \nThe race route is below (click image to enlarge): \n \nRace Details: Registration and Bib pickup will be at Henry Law Park on the\nmorning of the event from 9am-10:45am. Look for the registration tent near\nthe indoor pool parking lot. \nOnline registration ends Friday\, 4/27/2018 at noon. On-site registration will\nbe allowed on the morning of the event.\nDog Walkers: \nDownload a pledge form to raise money offline for your walk. \nPrizes for fundraising are as follows:\n$25- your choice of a logo dog bandana or a logo backpack\n$50- logo water bottle\n$100-logo baseball cap\n$250- logo hoodie\n$500-logo fleece vest\n$1\,000-logo fleece jacket\n\n\n\nIf you are interested in sponsoring the event contact Debbie Shelton at devdirector@cvhsonline.org. If you’re interested in being a vendor at the event please contact Melanie Burger at mburger@cvhsonline.org. \nSpecial thanks to all of our event sponsors: \n\n  \n  \n\n\n\n\n\nRadio Sponsor\n\n\n\n\n\n\n\n\n\n\n\n\n\n\nRace Route Sponsors\n\n\n\n\n\n\n\n\n\n\n\n\n\nDoggie Drink Stop Sponsors\n\n\n\n\n\n\n\n\n\n\n\n\n\n\n\n\n\n\n\n\n \n\n\n\n\n\n\n\n\n  \n  \nEvent Details:
URL:https://popememorialcvhs.org/event/tailstotrails/
LOCATION:Henry Law Park\, Dover\, NH\, 9 Henry Law Avenue\, Dover\, NH\, 03820\, United States
CATEGORIES:5K,Dog Walk,Fundraiser
ATTACH;FMTTYPE=image/jpeg:https://popememorialcvhs.org/wp-content/uploads/2018/03/CVHS-alum-in-wagon.jpg
ORGANIZER;CN="Cocheco Valley Humane Society":MAILTO:mburger@cvhsonline.org
END:VEVENT
BEGIN:VEVENT
DTSTART;TZID=America/Halifax:20180426T073000
DTEND;TZID=America/Halifax:20180426T193000
DTSTAMP:20260425T121039
CREATED:20180327T005257Z
LAST-MODIFIED:20180410T220725Z
UID:8819-1524727800-1524771000@popememorialcvhs.org
SUMMARY:Margaritas Noche Mexicana Fundraiser for CVHS
DESCRIPTION:Join us Thursday\, April 26th\, at Margaritas in Dover for an all-day fundraiser benefiting CVHS! Present a Noche Mexicana flyer to your server and 20% of your pre-tax order will be donated to CVHS\, takeout included! Flyers are available here at the shelter\, or by clicking and printing the image below.
URL:https://popememorialcvhs.org/event/margaritas-noche-mexicana-fundraiser-for-cvhs/
LOCATION:Margaritas Mexican Restaurant\, 23 Members Way\, Dover\, NH\, 03820\, United States
CATEGORIES:Community Sponsored Events,Dining,Fundraiser
ATTACH;FMTTYPE=image/jpeg:https://popememorialcvhs.org/wp-content/uploads/2018/03/margsdover.jpg
ORGANIZER;CN="Cocheco Valley Humane Society":MAILTO:mburger@cvhsonline.org
END:VEVENT
BEGIN:VEVENT
DTSTART;TZID=America/Halifax:20180412T120000
DTEND;TZID=America/Halifax:20180412T180000
DTSTAMP:20260425T121039
CREATED:20180327T003151Z
LAST-MODIFIED:20180327T003234Z
UID:8814-1523534400-1523556000@popememorialcvhs.org
SUMMARY:Sonny's Tavern 15% Fundraiser
DESCRIPTION:Enjoy a delicious night out at Sonny’s Tavern in Dover\, and help ALL THE ANIMALS at the same time! Just dine at Sonny’s between 4-10pm on April 12th and TELL YOUR SERVER that you’re there for the Cocheco Valley Humane Society fundraiser. \nThat’s all you have to do\, and 15% of your food bill will be donated back to the shelter to help the animals! \nThere’s one catch though! This fundraiser will only happen if we get 20 people to commit to dine prior to April 9th. So click through to https://www.groupraise.com/events/55265-cocheco-valley-humane-society-at-sonny-s-tavern and let them know you plan to be there!
URL:https://popememorialcvhs.org/event/sonnys-tavern-15-fundraiser/
LOCATION:Sonny’s Tavern\, 328 Central Ave\, Dover\, NH\, 03820\, United States
CATEGORIES:Community Sponsored Events,Dining,Fundraiser
ATTACH;FMTTYPE=image/jpeg:https://popememorialcvhs.org/wp-content/uploads/2018/03/28660746_1625041384248120_5245465652278315826_n.jpg
ORGANIZER;CN="Cocheco Valley Humane Society":MAILTO:mburger@cvhsonline.org
END:VEVENT
BEGIN:VEVENT
DTSTART;TZID=America/Halifax:20180407T080000
DTEND;TZID=America/Halifax:20180407T110000
DTSTAMP:20260425T121039
CREATED:20180327T002554Z
LAST-MODIFIED:20180330T213613Z
UID:8810-1523088000-1523098800@popememorialcvhs.org
SUMMARY:NHAA Art-imals Opening Reception
DESCRIPTION:April is Adopt-a-Pet month\, and New Hampshire Art Association is hosting an art exhibit focusing on animals\, both wild and free. NHAA Members’ art will be displayed in the Robert Lincoln Levy Gallery in Portsmouth and NHAA will be collecting donations on our behalf all month long. There will be an opening reception on April 7th from 12-3pm when the art will be unveiled. Please join us then for an afternoon of art focused on the love of animals. Light refreshments will be served.
URL:https://popememorialcvhs.org/event/nhaa-art-imals-opening-reception/
LOCATION:New Hampshire Art Association\, 136 State Street\, Portsmouth\, NH\, 03801\, United States
CATEGORIES:Art Show,Exhibition,Fundraiser
ATTACH;FMTTYPE=image/jpeg:https://popememorialcvhs.org/wp-content/uploads/2018/03/NHAA.jpg
ORGANIZER;CN="Cocheco Valley Humane Society":MAILTO:mburger@cvhsonline.org
END:VEVENT
BEGIN:VEVENT
DTSTART;TZID=America/Halifax:20180407T060000
DTEND;TZID=America/Halifax:20180407T090000
DTSTAMP:20260425T121039
CREATED:20180402T224233Z
LAST-MODIFIED:20180402T224323Z
UID:8940-1523080800-1523091600@popememorialcvhs.org
SUMMARY:For Pets' Sake
DESCRIPTION:The CVHS humane education group is partnering with K.I.N.D Matters to host a Pet Awareness Day at Petco in Dover to celebrate their pet adoption month. We will have information about the new shelter\, a video showcasing CVHS and some of the wonderful animals up for adoption\, and details about the Humane Education program. There will be games\, raffles\, pictures with pets\, and face painting as part of the fun. There will even be pizza from Old Rail Pizza Co!
URL:https://popememorialcvhs.org/event/for-pets-sake/
LOCATION:Petco\, 877 Central Avenue\, Dover\, NH\, 03820\, United States
CATEGORIES:Community Sponsored Events,Humane Education
ATTACH;FMTTYPE=image/png:https://popememorialcvhs.org/wp-content/uploads/2018/04/For-Pets-Sake.png
ORGANIZER;CN="Cocheco Valley Humane Society":MAILTO:mburger@cvhsonline.org
END:VEVENT
BEGIN:VEVENT
DTSTART;TZID=America/Halifax:20180324T110000
DTEND;TZID=America/Halifax:20180324T140000
DTSTAMP:20260425T121039
CREATED:20180321T002617Z
LAST-MODIFIED:20180321T002904Z
UID:8734-1521889200-1521900000@popememorialcvhs.org
SUMMARY:Rabies and Microchip Clinic
DESCRIPTION:Join us on March 24th from 11am-2pm for our Rabies and Microchip Clinic here at the shelter! No appointment necessary. The following services will be offered: \n1 year rabies vaccine … $15 \n3 years rabies vaccine … $25\n(3 year vaccines require previous rabies certificate) \nMicrochip & Registration … $25 \nNail Trim … $5 \nPayment by cash or check only. \nAll dogs & cats must be leashed or caged.
URL:https://popememorialcvhs.org/event/rabies-and-microchip-clinic/
LOCATION:Cocheco Valley Humane Society\, 262 County Farm Road\, Dover\, NH\, 03820\, United States
CATEGORIES:Clinic,News & Events,Services
ATTACH;FMTTYPE=image/jpeg:https://popememorialcvhs.org/wp-content/uploads/2018/03/03-24-18-Rabies-Clinic.jpg
ORGANIZER;CN="Cocheco Valley Humane Society":MAILTO:mburger@cvhsonline.org
END:VEVENT
END:VCALENDAR